BEGIN:VCALENDAR
VERSION:2.0
PRODID:-//Visit Buggiano - ECPv6.11.2.1//NONSGML v1.0//EN
CALSCALE:GREGORIAN
METHOD:PUBLISH
X-WR-CALNAME:Visit Buggiano
X-ORIGINAL-URL:https://visitbuggiano.com/de/
X-WR-CALDESC:Veranstaltungen für Visit Buggiano
REFRESH-INTERVAL;VALUE=DURATION:PT1H
X-Robots-Tag:noindex
X-PUBLISHED-TTL:PT1H
BEGIN:VTIMEZONE
TZID:Europe/Rome
BEGIN:DAYLIGHT
TZOFFSETFROM:+0100
TZOFFSETTO:+0200
TZNAME:CEST
DTSTART:20240331T010000
END:DAYLIGHT
BEGIN:STANDARD
TZOFFSETFROM:+0200
TZOFFSETTO:+0100
TZNAME:CET
DTSTART:20241027T010000
END:STANDARD
END:VTIMEZONE
BEGIN:VEVENT
DTSTART;TZID=Europe/Rome:20240907T170000
DTEND;TZID=Europe/Rome:20241027T190000
DTSTAMP:20260419T141625
CREATED:20240821T122410Z
LAST-MODIFIED:20240821T122410Z
UID:10895-1725728400-1730055600@visitbuggiano.com
SUMMARY:Foto zeigt: DO! Außergewöhnlich gewöhnliche Frauen
DESCRIPTION:TUN SIE ES! Außergewöhnlich gewöhnliche Frauen Vom 7. September 2024 bis 27. Oktober 2024 von 16 bis 19 Uhr Fotoausstellung kuratiert von Manola Biggeri Jeden Sonntag von 16 bis 19 Uhr bis zum 27.10.2024 geöffnet Einweihung: 7. September um 17 Uhr Palazzo Pretorio Buggiano.
URL:https://visitbuggiano.com/de/evento/foto-zeigt-do-ausergewohnlich-gewohnliche-frauen/
LOCATION:Palazzo Pretorio\, Buggiano Castello\, piazza Pretorio 1\, Buggiano Castello\, PT\, 51011\, Italia
ATTACH;FMTTYPE=image/png:https://visitbuggiano.com/wp-content/uploads/2024/08/fate_01.png
ORGANIZER;CN="Associazione Culturale Buggiano Castello":MAILTO:info@buggianocastello.it
END:VEVENT
END:VCALENDAR