BEGIN:VCALENDAR
VERSION:2.0
PRODID:-//Visit Buggiano - ECPv6.11.2.1//NONSGML v1.0//EN
CALSCALE:GREGORIAN
METHOD:PUBLISH
X-WR-CALNAME:Visit Buggiano
X-ORIGINAL-URL:https://visitbuggiano.com/en/
X-WR-CALDESC:Events for Visit Buggiano
REFRESH-INTERVAL;VALUE=DURATION:PT1H
X-Robots-Tag:noindex
X-PUBLISHED-TTL:PT1H
BEGIN:VTIMEZONE
TZID:Europe/Rome
BEGIN:DAYLIGHT
TZOFFSETFROM:+0100
TZOFFSETTO:+0200
TZNAME:CEST
DTSTART:20210328T010000
END:DAYLIGHT
BEGIN:STANDARD
TZOFFSETFROM:+0200
TZOFFSETTO:+0100
TZNAME:CET
DTSTART:20211031T010000
END:STANDARD
END:VTIMEZONE
BEGIN:VEVENT
DTSTART;TZID=Europe/Rome:20210812T210000
DTEND;TZID=Europe/Rome:20210812T233000
DTSTAMP:20260420T030707
CREATED:20210810T095854Z
LAST-MODIFIED:20210810T101525Z
UID:5829-1628802000-1628811000@visitbuggiano.com
SUMMARY:INSIDE OUT
DESCRIPTION:Cinema sotto le stelle\n\nDirector: P. Docter\, RD.Carmine\n\nGenre: animation\, comedy\, drama\, adventure\n\nYear: 2015\n\nCountry: United States of America\n\nDuration: 94 minutes\n\nPlot: Riley is forced to leave her life in the Midwest when her father moves to San Francisco for work. The child is guided by her own emotions: Joy\, Fear\, Anger\, Disgust and Sadness\, who live in the Headquarters\, the control center in the mind\, from where they help her to face everyday life.\n\n\n\n\nBooking required: BOOK
URL:https://visitbuggiano.com/en/evento/inside-out/
LOCATION:Piazza del Grano\, Piazza del Grano\, Borgo a Buggiano\, 51011\, Italia
CATEGORIES:Movie
ATTACH;FMTTYPE=image/jpeg:https://visitbuggiano.com/wp-content/uploads/2021/07/locandina-1.jpeg
ORGANIZER;CN="Municipality of Buggiano":MAILTO:info@comune.buggiano.pt.it/
END:VEVENT
END:VCALENDAR