BEGIN:VCALENDAR
VERSION:2.0
PRODID:-//Visit Buggiano - ECPv6.11.2.1//NONSGML v1.0//EN
CALSCALE:GREGORIAN
METHOD:PUBLISH
X-ORIGINAL-URL:https://visitbuggiano.com
X-WR-CALDESC:Eventi per Visit Buggiano
REFRESH-INTERVAL;VALUE=DURATION:PT1H
X-Robots-Tag:noindex
X-PUBLISHED-TTL:PT1H
BEGIN:VTIMEZONE
TZID:Europe/Rome
BEGIN:DAYLIGHT
TZOFFSETFROM:+0100
TZOFFSETTO:+0200
TZNAME:CEST
DTSTART:20210328T010000
END:DAYLIGHT
BEGIN:STANDARD
TZOFFSETFROM:+0200
TZOFFSETTO:+0100
TZNAME:CET
DTSTART:20211031T010000
END:STANDARD
BEGIN:DAYLIGHT
TZOFFSETFROM:+0100
TZOFFSETTO:+0200
TZNAME:CEST
DTSTART:20220327T010000
END:DAYLIGHT
BEGIN:STANDARD
TZOFFSETFROM:+0200
TZOFFSETTO:+0100
TZNAME:CET
DTSTART:20221030T010000
END:STANDARD
BEGIN:DAYLIGHT
TZOFFSETFROM:+0100
TZOFFSETTO:+0200
TZNAME:CEST
DTSTART:20230326T010000
END:DAYLIGHT
BEGIN:STANDARD
TZOFFSETFROM:+0200
TZOFFSETTO:+0100
TZNAME:CET
DTSTART:20231029T010000
END:STANDARD
BEGIN:DAYLIGHT
TZOFFSETFROM:+0100
TZOFFSETTO:+0200
TZNAME:CEST
DTSTART:20240331T010000
END:DAYLIGHT
BEGIN:STANDARD
TZOFFSETFROM:+0200
TZOFFSETTO:+0100
TZNAME:CET
DTSTART:20241027T010000
END:STANDARD
END:VTIMEZONE
BEGIN:VEVENT
DTSTART;TZID=Europe/Rome:20210808T211500
DTEND;TZID=Europe/Rome:20210808T231500
DTSTAMP:20260425T061834
CREATED:20210708T151635Z
LAST-MODIFIED:20210810T100809Z
UID:5452-1628457300-1628464500@visitbuggiano.com
SUMMARY:DAL BAROCCO AL BIG BANG
DESCRIPTION:Prenotazione obbligatoria. PRENOTA. \nIl biglietto comprende un drink di benvenuto presso il Giardino di Villa Sermolli. \nCONCERTO \nBANDA BARSOTTI\nLisa bini e Luca Magni\, flauti\nMassimo Barsotti\, pianoforte\nGiulio Barsotti\, contrabbasso \nLa Banda Barsotti prende il nome da Massimo Barsotti\, ideatore e arrangiatore e pianista dell’ensemble\, infondendo alle composizioni raffinate e particolari innovazioni.\nMusiche di Vivaldi\, Mozart\, Puccini\, Bolling\, Morricone\, Piazzolla \nLisa Bini (Flauto) Nata nel 1995 si diploma con il massimo dei voti nel 2014 e successivamente consegue il biennio specialistico di flauto con 110 e lode. Vincitrice di molteplici concorsi internazionali e selezioni musicali come il 23 concorso Riviera della Versilia\, la 4 selezione giovani musicisti Roma\, 14 concorso internazionale di Paola con primo premio assoluto cat. fiati e primo premio assoluto S.Francesco di Paola\, 1 premio assoluto al concorso nazionale musicale per conservatori statali e istituti pareggiati “Silver 2017” per la Cat. Biennio specialistico\, al 3 concorso musicale regionale Lions Aldobrandeschi 1 premio assoluto fiati\, targa d’onore in ricordo di Palmiero Giannetti alla migliore esecuzione per strumenti a fiato e primo premio assoluto del concorso\, 1 premio al V concorso nazionale di musica Magna Grecia\, 1 premio assoluto al 7 International music competition Amigdala e il premio interpretazione offerto da Y.Shibata\, 1 premio assoluto al Concorso Europeo di esecuzione musicale Vittorio Guardo ricevendo il premio Città di Siracusa\, 1 premio concorso nazionale “Davide Lufrano Chaves” nella categoria di musica da camera\, 1 premio al concorso Agimus Firenze 2018\, 1 premio Assoluto al concorso Internazionale città di Stresa. Vincitrice della borsa di studio offerta dalla loggia Francesco Burlamacchi all’Oriente di Lucca. È stata invitata a suonare per l’associazione musicale Rospigliosi\, per Morellino classica festival di Scansano\, al Festival Armonie e arte al Palazzo Stillo-Ferrara in Calabria\, per l’associazione Aulos in Puglia\, all’auditorium dell’accademia musicale Praeneste di Roma\, al festival del nuovo Rinascimento di Lucca\, per Art Voice Academy a Castelfranco Veneto\, a Le dôme de Marseille\, a Sanremo e all’Espace-Julien\, al festival musicale Recondite Armonie di Grosseto. Vincitrice dell’audizione per l’orchestra ritmico sinfonica Italiana young ha suonato come 1° flauto per il Festival di Sanremo Young 2018.\nLuca Magni (Flauto) Si è diplomato brillantemente in Flauto Traverso presso l’Istituto Musicale Pareggiato “P. Mascagni” (Livorno) nel 1991 sotto la guida del M. Nicola Mazzanti. Si è perfezionato con i Maestri R. Fabbriciani\, M.Conti\, M.Marasco \, M. Ancillotti\, P. Vawre M. Larrieu\, G. Corradetti. Ha eseguito numerosi concerti in Italia (Roma\, Torino\, Milano\, Firenze\, Macerata\, Bari\, Bologna\, Siena\, Varese\, Parma\, Lucca\, Modena\, ecc.) ed all’estero (Malta\, Francia\, Austria\, Polonia\, Germania\, S.Pietroburgo\, Olanda\, Svezia\, Spagna\, Danimarca\, Russia (San Pietroburgo)\, Australia\, Stati Uniti\, Giappone\, sia in duo che come solista\, riscuotendo sempre unanimi consensi di pubblico e di critica. Ha suonato per diversi Istituti di Cultura: Besancon (Francia)\, Lund (Svezia)\, San Pietroburgo (Russia)\, Amsterdam (Olanda). Melbourne (Aus). E’ Direttore artistico di Piceno Classica in San Benedetto Massimo Barsotti\, Pianoforte (o tastiere) – Lisa Bini\, Flauto – Luca Magni\, Flauto – Giulio Barsotti\, Contrabbasso (o batteria) \nMassimo Barsotti (pianoforte)\, pianista e compositore eclettico\, dopo la preparazione accademica\, avvenuta presso il Conserva- torio L. Cherubini di Firenze dove si è diplomato nel 1986\, speri- menta ogni forma di espressione musicale suonando nei piano- bar\, in gruppi dixieland\, in big band\, in gruppi pop/rock\, musica etnica e folk senza mai tralasciare la sua formazione classica. Ben presto si mette anche a scrivere musica e la sua attività di compositore lo porta a collaborare con il Teatro stabile di Bolzano. La sua passione per la musica di ogni genere ed il suo naturale virtuosismo lo portano ad esibirsi in concerti pianistici caratterizzati dall’originalità dei suoi programmi che lui stesso cura arrangiando e trascrivendo opere scritte per altre formazioni strumentali ed anche brani di derivazione popolare. \nGiulio Barsotti (Contrabbasso) inizia molto giovane a studiare piano-forte sotto la guida del padre ed in seguito intraprende lo studio della batteria con il percussionista G. Mastroianni. Il suo naturale senso della musica e del ritmo lo portano già quattordicenne ad incidere un CD insieme alla band emergente The Peoples ed ad esibirsi insieme a nomi prestigiosi della musica Jazz. Come contrabbassista collabora con la Jazz band Osmanngold\, l’orchestra Galilei di Fiesole ed ha suonato opere di Daniele Lombardi sotto la direzione di Lorenzo Fratini al teatro comunale di Firenze.
URL:https://visitbuggiano.com/evento/dal-barocco-al-big-bang/
LOCATION:Villa Sermolli\, Via Umberto I\, 2/8\, Buggiano\, Italia\, 51011\, Italia
CATEGORIES:Musica
ATTACH;FMTTYPE=image/jpeg:https://visitbuggiano.com/wp-content/uploads/2021/05/giardino-sermolli-0602.jpg
ORGANIZER;CN="Associazione Culturale Buggiano Castello":MAILTO:info@buggianocastello.it
END:VEVENT
BEGIN:VEVENT
DTSTART;TZID=Europe/Rome:20210813T210000
DTEND;TZID=Europe/Rome:20210813T230000
DTSTAMP:20260425T061834
CREATED:20210721T130124Z
LAST-MODIFIED:20210810T100809Z
UID:5621-1628888400-1628895600@visitbuggiano.com
SUMMARY:ALFREDO MARASTI - ROSABIANCA LIVE ACUSTICO
DESCRIPTION:Ingresso gratuito. Prenotazione obbligatoria. CLICCA QUI E PRENOTA \nAlfredo Marasti – ROSABIANCA Live acustico 2021!!  \nUn giovane cantautore della nostra Valdinievole che ci ammalierà con la sua musica! \nMusicisti: \nAlfredo Marasti (chitarra acustica\, voce\, armonica a bocca\, kazoo); Rebecca Cinquina (voce e cori)\,Teresa Dereviziis (violino)\, Dario Baldini (basso). \nNella splendida cornice di Piazza del Grano verrà presentato al pubblico ALTRI TEMPI\, ultimo progetto discografico del cantautore toscano Alfredo Marasti\, uscito il 28 aprile 2020 per l’etichetta La Stanza Nascosta Records. \nNel live non mancheranno incursioni nel precedente album Lolita Moon (che vanta la produzione artistica di Cassandra Raffaele); in scaletta anche altri altri brani di Marasti (tra i quali l’irriverente Canzone per Mario\, Miglior testo a Musicultura XXIV Ed. – 2013) e l’ultimo singolo ROSABIANCA\, che dà il titolo al concerto.
URL:https://visitbuggiano.com/evento/alfredo-marasti-rosabianca-live-acustico/
LOCATION:Piazza del Grano\, Piazza del Grano\, Borgo a Buggiano\, 51011\, Italia
CATEGORIES:Musica
ATTACH;FMTTYPE=image/jpeg:https://visitbuggiano.com/wp-content/uploads/2021/07/Alfredo-marasti-live-acustico.jpeg
ORGANIZER;CN="Comune di Buggiano":MAILTO:info@comune.buggiano.pt.it/
END:VEVENT
BEGIN:VEVENT
DTSTART;TZID=Europe/Rome:20210814T211500
DTEND;TZID=Europe/Rome:20210814T231500
DTSTAMP:20260425T061834
CREATED:20210708T152039Z
LAST-MODIFIED:20210810T100809Z
UID:5455-1628975700-1628982900@visitbuggiano.com
SUMMARY:ADAGIO MOZART
DESCRIPTION:Prenotazione obbligatoria. PRENOTA \nIl biglietto comprende un drink di benvenuto presso il Giardino di Villa Sermolli. \n  \nTRIO AEONIUM \nCristina Papini\, Violino\nSilvia Maria Gira\, Violoncello\nAndrea Napoleoni\, Pianoforte \nA. Part/Mozart: Adagio per violino\, violoncello e pianoforte \nW. A. Mozart: Piano Trio K 502 \nL. V. Beethoven: Piano Trio op. 1 n. 3 \nTrio Aeonium. Di recente costituzione\, si è formato nell’ambito dei corsi di alto perfezionamento di musica da camera\, tenuti dal Maestro Carlo Fabiano\, presso l’Accademia Nazionale di Santa Cecilia in Roma. Il trio si esibirà in maggio 2021 per la stagione “Trame Sonore” di Mantova . \nCristina Papini presso l’Istituto Musicale L. Boccherini di Lucca consegue i diplomi di vecchio ordinamento e accademico di secondo livello con lode\, sotto la guida del Maestro Alberto Bologni. Risulta vincitrice di diversi concorsi nazionali di violino . Effettua concerti con programmi di musica da camera\, violino solo\, violino orchestra . Dal 2017 è componente del Quartetto Guadagnini con il quale effettua una intensa attività sia in Italia che all’estero. Nel 2020 consegue il diploma di violino\, con il Maestro Sonig Tchakerian\, presso l’Accademia Nazionale di Santa Cecilia. \nSilvia Maria Gira presso il Conservatorio di Musica V. Bellini di Palermo consegue il diploma accademico di secondo livello con lode e menzione d’onore\,sotto la guida del Maestro Carmelo Nicotra . E’ vincitrice di diversi concorsi nazionali e internazionali di esecuzione. Si esibisce presso importanti istituzioni: Teatro Massimo di Palermo\, Parco della Musica in Roma\,Accademia Filarmonica Roma e molti altri.\nE’ diplomanda in violoncello\, sotto la guida del Maestro Giovanni Sollima\, presso l’Accademia Nazionale di Santa Cecilia. \nAndrea Napoleoni presso il Conservatorio G. Verdi di Milano consegue il diploma accademico di secondo livello con lode \,sotto la guida del Maestro Silvia Limongelli. E’ vincitore di diversi premi pianistici. Debutta alla Biennale di Venezia 2019 con l’ensemble Novecento dell’Accademia Nazionale di Santa Cecilia. Si esibisce\, inoltre\, per importanti stagioni concertistiche sia come solista che in formazioni da camera: Accademia Filarmonica Romana\, MiTo\, Museo del Teatro alla Scala… Nel 2020 si diploma in pianoforte presso l’Accademia Nazionale di Santa Cecilia \, sotto la guida del Maestro Benedetto Lupo.
URL:https://visitbuggiano.com/evento/adagio-mozart/
LOCATION:Palazzo Pretorio\, Buggiano Castello\, piazza Pretorio 1\, Buggiano Castello\, PT\, 51011\, Italia
CATEGORIES:Musica
ATTACH;FMTTYPE=image/jpeg:https://visitbuggiano.com/wp-content/uploads/2021/05/Buggiano-Palazzo-Pretorio-0157.jpg
ORGANIZER;CN="Associazione Culturale Buggiano Castello":MAILTO:info@buggianocastello.it
END:VEVENT
BEGIN:VEVENT
DTSTART;TZID=Europe/Rome:20210820T211500
DTEND;TZID=Europe/Rome:20210820T231500
DTSTAMP:20260425T061834
CREATED:20210708T154046Z
LAST-MODIFIED:20210817T071640Z
UID:5462-1629494100-1629501300@visitbuggiano.com
SUMMARY:PIAZZOLLA: OPERA E FILM
DESCRIPTION:Ingresso gratuito. Prenotazione obbligatoria. CLICCA QUI E PRENOTA \n  \nAstor Piazzolla secondo un punto di vista particolare\, ovvero la vocazione visiva ed evocativa della propria musica. \nMusicisti: Indra Bocchi – Voce\, Filippo Rogai – Flauto\, Adrian Fioramonti – Chitarre\, Francesco Lorenzetti – Basso e Contrabbasso\, Fabrizio Datteri – Pianoforte \nIl progetto parte da un punto di vista particolare\, ovvero la vocazione visiva ed evocativa della musica di Piazzolla. \nDelle circa 750 opere composte dal famoso bandoneonista\, quasi cinquanta appartengono al settore di musica da film\, a cui va aggiunto l’uso filmico che altri autori hanno fatto della loro musica. \nViene presentato un excursus della produzione compositiva di Piazzolla per il cinema\, che comprende un totale di 44 colonne sonore musicali realizzate tra il 1949 e il 1987\, sia in Europa che in America Latina; questa produzione è contestualizzata nello sviluppo delle diverse tendenze stilistiche e ideologiche dei registi iberoamericani ed europei con i quali il compositore ha collaborato. \nLo studio della creazione cinematografica così come lo sviluppo di attività di ricerca\, compilazione e diffusione del patrimonio cinematografico\, costituisce un campo in forte espansione\, all’interno di quella corrente che potremmo chiamare “studi sulla postmodernità”. Il cinema è una testimonianza vivente della storia e della cultura\, quindi la ricerca su tutti gli aspetti che ci permettono di comprenderne lo sviluppo storico\, estetico e ideologico è di particolare interesse. Tuttavia\, la musica risulta essere uno degli elementi più trascurati negli studi dedicati al cinema spagnolo americano ed europeo. Questo perché la musicologia non è ancora entrata a pieno titolo in questo campo\, mentre i critici cinematografici o gli esperti di comunicazione audiovisiva sì. Come indica il critico cinematografico Colón Perales: «la musica è un fattore fondamentale nei processi di proiezione/identificazione che fondano il potere seduttivo del cinema\, una presenza emotiva che\, attraverso i propri mezzi\, inserisce nell’esperienza di visione del film il suo messaggio astratto. La musica costruisce l’esperienza della realtà emotiva del fatto cinematografico\, ponendosi – come altre rappresentazioni sacre o profane prima – come mediazione affettiva. \nIn linea con questa proiezione verso la sfera rappresentativa visiva\, il progetto racchiude anche una serie di estratti dall’Opera Maria de Buenos Aires\, fra l’altro dedicata a una delle voci italiane più famose\, Milva.
URL:https://visitbuggiano.com/evento/piazzolla-opera-e-film/
LOCATION:Piazza del Grano\, Piazza del Grano\, Borgo a Buggiano\, 51011\, Italia
CATEGORIES:Musica
ATTACH;FMTTYPE=image/jpeg:https://visitbuggiano.com/wp-content/uploads/2021/07/piazzolla-1.jpeg
ORGANIZER;CN="Associazione Culturale Buggiano Castello":MAILTO:info@buggianocastello.it
END:VEVENT
BEGIN:VEVENT
DTSTART;TZID=Europe/Rome:20210827T210000
DTEND;TZID=Europe/Rome:20210827T230000
DTSTAMP:20260425T061834
CREATED:20210721T130836Z
LAST-MODIFIED:20210810T100808Z
UID:5627-1630098000-1630105200@visitbuggiano.com
SUMMARY:I RAGAZZI MAGICI - JOVANOTTI FUNNY BAND
DESCRIPTION:Ingresso gratuito. Prenotazione obbligatoria. CLICCA QUI E PRENOTA! \n  \nUn progetto musicale nuovo e divertente\, nato dall’unione di cinque Ragazzi Magici. \nVi chiederete cosa c’è di nuovo in una tribute band… \nSemplice: NON SIAMO IMITATORI!
URL:https://visitbuggiano.com/evento/i-ragazzi-magici-jovanotti-funny-band/
LOCATION:Piazza del Grano\, Piazza del Grano\, Borgo a Buggiano\, 51011\, Italia
CATEGORIES:Musica
ATTACH;FMTTYPE=image/jpeg:https://visitbuggiano.com/wp-content/uploads/2021/07/ragazzi-magici.jpeg
ORGANIZER;CN="Comune di Buggiano":MAILTO:info@comune.buggiano.pt.it/
END:VEVENT
BEGIN:VEVENT
DTSTART;TZID=Europe/Rome:20210918T211500
DTEND;TZID=Europe/Rome:20210918T231500
DTSTAMP:20260425T061834
CREATED:20210708T153608Z
LAST-MODIFIED:20210907T072125Z
UID:5460-1631999700-1632006900@visitbuggiano.com
SUMMARY:FANTASIA ITALIANA - GALA' LIRICO Arie e duetti della tradizione operistica
DESCRIPTION:Prenotazione obbligatoria. PRENOTA. \nConcerto degli allievi di BHIAF (Boris Hristov International Art Academy and Festival) pianista accompagnatore m° Ilia LOZANOV \nAccesso con GreenPass
URL:https://visitbuggiano.com/evento/gala-lirico/
LOCATION:Palazzo Pretorio\, Buggiano Castello\, piazza Pretorio 1\, Buggiano Castello\, PT\, 51011\, Italia
CATEGORIES:Musica
ATTACH;FMTTYPE=image/jpeg:https://visitbuggiano.com/wp-content/uploads/2021/07/241304678_2048513375317980_2080858374606589128_n.jpeg
ORGANIZER;CN="Associazione Culturale Buggiano Castello":MAILTO:info@buggianocastello.it
END:VEVENT
BEGIN:VEVENT
DTSTART;TZID=Europe/Rome:20240729T213000
DTEND;TZID=Europe/Rome:20240729T213000
DTSTAMP:20260425T061834
CREATED:20240725T090146Z
LAST-MODIFIED:20240725T091253Z
UID:10708-1722288600-1722288600@visitbuggiano.com
SUMMARY:Musica e Cocktails alle Terre di Cocomo - 29 luglio
DESCRIPTION:Musica e Cocktails alle Terre di Cocomo! \nSi parte il 29 luglio alle 21.30 con Fabrizio Mocata e Bob Jay in concerto! \n👉 Gli eventi sono su prenotazione.\n📧 info@terredicocomo.it\n☎️ 3331616795
URL:https://visitbuggiano.com/evento/musica-e-cocktails-alle-terre-di-cocomo-29-luglio/
LOCATION:Agriturismo Terre di Cocomo\, Via Falciano\, 27\, Borgo A Buggiano (PT)\, 51011
CATEGORIES:Musica
ATTACH;FMTTYPE=image/jpeg:https://visitbuggiano.com/wp-content/uploads/2024/07/1-7.jpg
ORGANIZER;CN="Agriturismo Terre di Cocomo":MAILTO:info@terredicocomo.it
END:VEVENT
END:VCALENDAR